BEGIN:VCALENDAR
VERSION:2.0
PRODID:-//The WE ARE Network - ECPv6.15.20//NONSGML v1.0//EN
CALSCALE:GREGORIAN
METHOD:PUBLISH
X-WR-CALNAME:The WE ARE Network
X-ORIGINAL-URL:https://thewearenetwork.com
X-WR-CALDESC:Events for The WE ARE Network
REFRESH-INTERVAL;VALUE=DURATION:PT1H
X-Robots-Tag:noindex
X-PUBLISHED-TTL:PT1H
BEGIN:VTIMEZONE
TZID:America/Chicago
BEGIN:DAYLIGHT
TZOFFSETFROM:-0600
TZOFFSETTO:-0500
TZNAME:CDT
DTSTART:20210314T080000
END:DAYLIGHT
BEGIN:STANDARD
TZOFFSETFROM:-0500
TZOFFSETTO:-0600
TZNAME:CST
DTSTART:20211107T070000
END:STANDARD
BEGIN:DAYLIGHT
TZOFFSETFROM:-0600
TZOFFSETTO:-0500
TZNAME:CDT
DTSTART:20220313T080000
END:DAYLIGHT
BEGIN:STANDARD
TZOFFSETFROM:-0500
TZOFFSETTO:-0600
TZNAME:CST
DTSTART:20221106T070000
END:STANDARD
BEGIN:DAYLIGHT
TZOFFSETFROM:-0600
TZOFFSETTO:-0500
TZNAME:CDT
DTSTART:20230312T080000
END:DAYLIGHT
BEGIN:STANDARD
TZOFFSETFROM:-0500
TZOFFSETTO:-0600
TZNAME:CST
DTSTART:20231105T070000
END:STANDARD
END:VTIMEZONE
BEGIN:VEVENT
DTSTART;TZID=America/Chicago:20221013T190000
DTEND;TZID=America/Chicago:20221013T203000
DTSTAMP:20260419T181306
CREATED:20221010T033117Z
LAST-MODIFIED:20221010T033117Z
UID:10014-1665687600-1665693000@thewearenetwork.com
SUMMARY:Volleyball: Frederic vs. Webster @ Webster High School
DESCRIPTION:
URL:https://thewearenetwork.com/events/volleyball-frederic-vs-webster-webster-high-school/
CATEGORIES:Frederic Volleyball,Webster Volleyball
END:VEVENT
BEGIN:VEVENT
DTSTART;TZID=America/Chicago:20221011T190000
DTEND;TZID=America/Chicago:20221011T203000
DTSTAMP:20260419T181306
CREATED:20221010T034457Z
LAST-MODIFIED:20221010T034457Z
UID:10025-1665514800-1665520200@thewearenetwork.com
SUMMARY:Volleyball: Saint Croix Central vs. Amery @ Amery High School
DESCRIPTION:
URL:https://thewearenetwork.com/events/volleyball-saint-croix-central-vs-amery-amery-high-school/
CATEGORIES:Amery Volleyball
END:VEVENT
BEGIN:VEVENT
DTSTART;TZID=America/Chicago:20221011T190000
DTEND;TZID=America/Chicago:20221011T203000
DTSTAMP:20260419T181306
CREATED:20221010T034420Z
LAST-MODIFIED:20221010T034420Z
UID:10021-1665514800-1665520200@thewearenetwork.com
SUMMARY:Volleyball: Baldwin-Woodville vs. Ellsworth @ Ellsworth High School
DESCRIPTION:
URL:https://thewearenetwork.com/events/volleyball-baldwin-woodville-vs-ellsworth-ellsworth-high-school/
CATEGORIES:Ellsworth volleyball
END:VEVENT
BEGIN:VEVENT
DTSTART;TZID=America/Chicago:20221011T190000
DTEND;TZID=America/Chicago:20221011T203000
DTSTAMP:20260419T181306
CREATED:20221010T034334Z
LAST-MODIFIED:20221010T034334Z
UID:10026-1665514800-1665520200@thewearenetwork.com
SUMMARY:Volleyball: Prescott vs. Osceola @ Osceola High School
DESCRIPTION:
URL:https://thewearenetwork.com/events/volleyball-prescott-vs-osceola-osceola-high-school/
CATEGORIES:Osceola Volleyball
END:VEVENT
BEGIN:VEVENT
DTSTART;TZID=America/Chicago:20221011T190000
DTEND;TZID=America/Chicago:20221011T203000
DTSTAMP:20260419T181306
CREATED:20221010T034019Z
LAST-MODIFIED:20221010T034019Z
UID:10023-1665514800-1665520200@thewearenetwork.com
SUMMARY:Volleyball: Chetek-Weyerhaeuser vs. St. Croix Falls @ St Croix Falls
DESCRIPTION:
URL:https://thewearenetwork.com/events/volleyball-chetek-weyerhaeuser-vs-st-croix-falls-st-croix-falls/
CATEGORIES:SCF Volleyball
END:VEVENT
BEGIN:VEVENT
DTSTART;TZID=America/Chicago:20221011T190000
DTEND;TZID=America/Chicago:20221011T203000
DTSTAMP:20260419T181306
CREATED:20221010T032946Z
LAST-MODIFIED:20221010T032946Z
UID:10013-1665514800-1665520200@thewearenetwork.com
SUMMARY:Volleyball: Unity vs. Frederic @ Frederic High School
DESCRIPTION:
URL:https://thewearenetwork.com/events/volleyball-unity-vs-frederic-frederic-high-school/
CATEGORIES:Frederic Volleyball,Unity Volleyball
END:VEVENT
BEGIN:VEVENT
DTSTART;TZID=America/Chicago:20221011T190000
DTEND;TZID=America/Chicago:20221011T203000
DTSTAMP:20260419T181306
CREATED:20221010T032846Z
LAST-MODIFIED:20221010T032846Z
UID:10012-1665514800-1665520200@thewearenetwork.com
SUMMARY:Volleyball: Grantsburg vs. Luck @ Luck High School
DESCRIPTION:
URL:https://thewearenetwork.com/events/volleyball-grantsburg-vs-luck-luck-high-school/
CATEGORIES:Grantsburg Volleyball,Luck Volleyball
END:VEVENT
BEGIN:VEVENT
DTSTART;TZID=America/Chicago:20221011T190000
DTEND;TZID=America/Chicago:20221011T203000
DTSTAMP:20260419T181306
CREATED:20221010T032750Z
LAST-MODIFIED:20221010T032750Z
UID:10011-1665514800-1665520200@thewearenetwork.com
SUMMARY:Volleyball: Webster vs. Siren @ Siren High School
DESCRIPTION:
URL:https://thewearenetwork.com/events/volleyball-webster-vs-siren-siren-high-school/
CATEGORIES:Siren Volleyball,Webster Volleyball
END:VEVENT
BEGIN:VEVENT
DTSTART;TZID=America/Chicago:20221007T190000
DTEND;TZID=America/Chicago:20221007T203000
DTSTAMP:20260419T181306
CREATED:20221003T034512Z
LAST-MODIFIED:20221003T034512Z
UID:9989-1665169200-1665174600@thewearenetwork.com
SUMMARY:Football: Assumption vs. Webster @ Webster High School
DESCRIPTION:
URL:https://thewearenetwork.com/events/football-assumption-vs-webster-webster-high-school/
CATEGORIES:Webster Football
END:VEVENT
BEGIN:VEVENT
DTSTART;TZID=America/Chicago:20221007T190000
DTEND;TZID=America/Chicago:20221007T203000
DTSTAMP:20260419T181306
CREATED:20221003T034417Z
LAST-MODIFIED:20221003T034417Z
UID:9991-1665169200-1665174600@thewearenetwork.com
SUMMARY:Football: Luck vs. Siren @ Siren High School
DESCRIPTION:
URL:https://thewearenetwork.com/events/football-luck-vs-siren-siren-high-school/
CATEGORIES:Luck Football,Siren Football
END:VEVENT
BEGIN:VEVENT
DTSTART;TZID=America/Chicago:20221007T190000
DTEND;TZID=America/Chicago:20221007T203000
DTSTAMP:20260419T181306
CREATED:20221003T034318Z
LAST-MODIFIED:20221003T034318Z
UID:9990-1665169200-1665174600@thewearenetwork.com
SUMMARY:Football: Ladysmith vs. Unity @ Unity High School
DESCRIPTION:
URL:https://thewearenetwork.com/events/football-ladysmith-vs-unity-unity-high-school-2/
CATEGORIES:Unity Football
END:VEVENT
BEGIN:VEVENT
DTSTART;TZID=America/Chicago:20221007T190000
DTEND;TZID=America/Chicago:20221007T203000
DTSTAMP:20260419T181306
CREATED:20221003T033343Z
LAST-MODIFIED:20221003T033343Z
UID:9979-1665169200-1665174600@thewearenetwork.com
SUMMARY:Football: Chetek-Weyerhaeuser vs. Cameron @ Cameron High School
DESCRIPTION:
URL:https://thewearenetwork.com/events/football-chetek-weyerhaeuser-vs-cameron-cameron-high-school/
CATEGORIES:Cameron Football
END:VEVENT
BEGIN:VEVENT
DTSTART;TZID=America/Chicago:20221007T190000
DTEND;TZID=America/Chicago:20221007T203000
DTSTAMP:20260419T181306
CREATED:20221003T033249Z
LAST-MODIFIED:20221003T033249Z
UID:9980-1665169200-1665174600@thewearenetwork.com
SUMMARY:Football: Cumberland vs. St. Croix Falls @ St. Croix Falls High School
DESCRIPTION:
URL:https://thewearenetwork.com/events/football-cumberland-vs-st-croix-falls-st-croix-falls-high-school/
CATEGORIES:SCF Football
END:VEVENT
BEGIN:VEVENT
DTSTART;TZID=America/Chicago:20221007T190000
DTEND;TZID=America/Chicago:20221007T203000
DTSTAMP:20260419T181306
CREATED:20221003T033205Z
LAST-MODIFIED:20221003T033205Z
UID:9981-1665169200-1665174600@thewearenetwork.com
SUMMARY:Football: Ladysmith vs. Unity @ Unity High School
DESCRIPTION:
URL:https://thewearenetwork.com/events/football-ladysmith-vs-unity-unity-high-school/
CATEGORIES:Unity Football
END:VEVENT
BEGIN:VEVENT
DTSTART;TZID=America/Chicago:20221007T190000
DTEND;TZID=America/Chicago:20221007T203000
DTSTAMP:20260419T181306
CREATED:20221003T032656Z
LAST-MODIFIED:20221003T032656Z
UID:9976-1665169200-1665174600@thewearenetwork.com
SUMMARY:Football: Rice Lake vs. Osceola @ Osceola High School
DESCRIPTION:
URL:https://thewearenetwork.com/events/football-rice-lake-vs-osceola-osceola-high-school/
CATEGORIES:Osceola Football
END:VEVENT
BEGIN:VEVENT
DTSTART;TZID=America/Chicago:20221006T190000
DTEND;TZID=America/Chicago:20221006T210000
DTSTAMP:20260419T181307
CREATED:20221003T032449Z
LAST-MODIFIED:20221003T032449Z
UID:9975-1665082800-1665090000@thewearenetwork.com
SUMMARY:Soccer: Baldwin-Woodville vs. Osceola @ Osceola High School
DESCRIPTION:
URL:https://thewearenetwork.com/events/soccer-baldwin-woodville-vs-osceola-osceola-high-school/
CATEGORIES:Osceola Soccer
END:VEVENT
BEGIN:VEVENT
DTSTART;TZID=America/Chicago:20221006T190000
DTEND;TZID=America/Chicago:20221006T203000
DTSTAMP:20260419T181307
CREATED:20221003T034213Z
LAST-MODIFIED:20221003T034213Z
UID:9988-1665082800-1665088200@thewearenetwork.com
SUMMARY:Volleyball: Unity vs. Grantsburg @ Grantsburg High School
DESCRIPTION:
URL:https://thewearenetwork.com/events/volleyball-unity-vs-grantsburg-grantsburg-high-school/
CATEGORIES:Grantsburg Volleyball,Unity Volleyball
END:VEVENT
BEGIN:VEVENT
DTSTART;TZID=America/Chicago:20221006T190000
DTEND;TZID=America/Chicago:20221006T203000
DTSTAMP:20260419T181307
CREATED:20221003T034125Z
LAST-MODIFIED:20221003T034125Z
UID:9987-1665082800-1665088200@thewearenetwork.com
SUMMARY:Volleyball: Frederic vs. Siren @ Siren High School
DESCRIPTION:
URL:https://thewearenetwork.com/events/volleyball-frederic-vs-siren-siren-high-school/
CATEGORIES:Frederic Volleyball,Siren Volleyball
END:VEVENT
BEGIN:VEVENT
DTSTART;TZID=America/Chicago:20221006T190000
DTEND;TZID=America/Chicago:20221006T203000
DTSTAMP:20260419T181307
CREATED:20221003T034023Z
LAST-MODIFIED:20221003T034023Z
UID:9986-1665082800-1665088200@thewearenetwork.com
SUMMARY:Volleyball: Luck vs. Webster @ Webster High School
DESCRIPTION:
URL:https://thewearenetwork.com/events/volleyball-luck-vs-webster-webster-high-school/
CATEGORIES:Luck Volleyball,Webster Volleyball
END:VEVENT
BEGIN:VEVENT
DTSTART;TZID=America/Chicago:20221006T190000
DTEND;TZID=America/Chicago:20221006T203000
DTSTAMP:20260419T181307
CREATED:20221003T033057Z
LAST-MODIFIED:20221003T033057Z
UID:9977-1665082800-1665088200@thewearenetwork.com
SUMMARY:Volleyball: Ladysmith vs. Cameron @ Cameron High School
DESCRIPTION:
URL:https://thewearenetwork.com/events/volleyball-ladysmith-vs-cameron-cameron-high-school/
CATEGORIES:Cameron Volleyball
END:VEVENT
BEGIN:VEVENT
DTSTART;TZID=America/Chicago:20221006T190000
DTEND;TZID=America/Chicago:20221006T203000
DTSTAMP:20260419T181307
CREATED:20221003T032456Z
LAST-MODIFIED:20221003T032456Z
UID:9974-1665082800-1665088200@thewearenetwork.com
SUMMARY:Volleyball: Amery vs. Osceola @ Osceola High School
DESCRIPTION:
URL:https://thewearenetwork.com/events/volleyball-amery-vs-osceola-osceola-high-school/
CATEGORIES:Amery Volleyball,Osceola Volleyball
END:VEVENT
BEGIN:VEVENT
DTSTART;TZID=America/Chicago:20221004T190000
DTEND;TZID=America/Chicago:20221004T203000
DTSTAMP:20260419T181307
CREATED:20221003T033854Z
LAST-MODIFIED:20221003T033854Z
UID:9982-1664910000-1664915400@thewearenetwork.com
SUMMARY:Volleyball: Luck vs. Frederic @ Frederic High School
DESCRIPTION:
URL:https://thewearenetwork.com/events/volleyball-luck-vs-frederic-frederic-high-school/
CATEGORIES:Frederic Volleyball,Luck Volleyball
END:VEVENT
BEGIN:VEVENT
DTSTART;TZID=America/Chicago:20221004T190000
DTEND;TZID=America/Chicago:20221004T203000
DTSTAMP:20260419T181307
CREATED:20221003T033743Z
LAST-MODIFIED:20221003T033743Z
UID:9985-1664910000-1664915400@thewearenetwork.com
SUMMARY:Volleyball: Siren vs. Unity @ Unity High School
DESCRIPTION:
URL:https://thewearenetwork.com/events/volleyball-siren-vs-unity-unity-high-school/
CATEGORIES:Siren Volleyball,Unity Volleyball
END:VEVENT
BEGIN:VEVENT
DTSTART;TZID=America/Chicago:20221004T190000
DTEND;TZID=America/Chicago:20221004T203000
DTSTAMP:20260419T181307
CREATED:20221003T033635Z
LAST-MODIFIED:20221003T033635Z
UID:9983-1664910000-1664915400@thewearenetwork.com
SUMMARY:Volleyball: Grantsburg vs. Webster @ Webster High School
DESCRIPTION:
URL:https://thewearenetwork.com/events/volleyball-grantsburg-vs-webster-webster-high-school/
CATEGORIES:Grantsburg Volleyball,Webster Volleyball
END:VEVENT
BEGIN:VEVENT
DTSTART;TZID=America/Chicago:20221004T190000
DTEND;TZID=America/Chicago:20221004T203000
DTSTAMP:20260419T181307
CREATED:20221003T032123Z
LAST-MODIFIED:20221003T032123Z
UID:9971-1664910000-1664915400@thewearenetwork.com
SUMMARY:Volleyball: Amery vs. Ellsworth @ Ellsworth High School
DESCRIPTION:
URL:https://thewearenetwork.com/events/volleyball-amery-vs-ellsworth-ellsworth-high-school/
CATEGORIES:Amery Volleyball,Ellsworth volleyball
END:VEVENT
BEGIN:VEVENT
DTSTART;TZID=America/Chicago:20221004T190000
DTEND;TZID=America/Chicago:20221004T203000
DTSTAMP:20260419T181307
CREATED:20221003T032038Z
LAST-MODIFIED:20221003T032038Z
UID:9972-1664910000-1664915400@thewearenetwork.com
SUMMARY:Volleyball: Baldwin-Woodville vs. Osceola @ Osceola High School
DESCRIPTION:
URL:https://thewearenetwork.com/events/volleyball-baldwin-woodville-vs-osceola-osceola-high-school/
CATEGORIES:Osceola Volleyball
END:VEVENT
BEGIN:VEVENT
DTSTART;TZID=America/Chicago:20221002T190000
DTEND;TZID=America/Chicago:20221002T203000
DTSTAMP:20260419T181307
CREATED:20221003T033001Z
LAST-MODIFIED:20221003T033001Z
UID:9978-1664737200-1664742600@thewearenetwork.com
SUMMARY:Volleyball: Northwestern vs. St. Croix Falls @ St Croix Falls
DESCRIPTION:
URL:https://thewearenetwork.com/events/volleyball-northwestern-vs-st-croix-falls-st-croix-falls/
CATEGORIES:SCF Volleyball
END:VEVENT
BEGIN:VEVENT
DTSTART;TZID=America/Chicago:20221002T190000
DTEND;TZID=America/Chicago:20221002T203000
DTSTAMP:20260419T181307
CREATED:20221003T032830Z
LAST-MODIFIED:20221003T032830Z
UID:9973-1664737200-1664742600@thewearenetwork.com
SUMMARY:Volleyball: Spooner vs. Cameron @ Cameron High School
DESCRIPTION:
URL:https://thewearenetwork.com/events/volleyball-spooner-vs-cameron-cameron-high-school/
CATEGORIES:Cameron Volleyball
END:VEVENT
BEGIN:VEVENT
DTSTART;TZID=America/Chicago:20221001T130000
DTEND;TZID=America/Chicago:20221001T150000
DTSTAMP:20260419T181307
CREATED:20220926T035520Z
LAST-MODIFIED:20220926T035520Z
UID:9950-1664629200-1664636400@thewearenetwork.com
SUMMARY:Soccer: St. Croix Falls vs. Osceola @ Osceola High School
DESCRIPTION:
URL:https://thewearenetwork.com/events/soccer-st-croix-falls-vs-osceola-osceola-high-school/
CATEGORIES:Osceola Soccer
END:VEVENT
BEGIN:VEVENT
DTSTART;TZID=America/Chicago:20221001T100000
DTEND;TZID=America/Chicago:20221001T150000
DTSTAMP:20260419T181307
CREATED:20220926T035758Z
LAST-MODIFIED:20220926T035758Z
UID:9951-1664618400-1664636400@thewearenetwork.com
SUMMARY:Volleyball: Varsity Invitational @ Amery High School
DESCRIPTION:
URL:https://thewearenetwork.com/events/volleyball-varsity-invitational-amery-high-school/
CATEGORIES:Amery Volleyball,Siren Volleyball,Unity Volleyball,Webster Volleyball
END:VEVENT
END:VCALENDAR